BEGIN:VCALENDAR
VERSION:2.0
PRODID:gruene-eching.de
METHOD:PUBLISH
BEGIN:VTIMEZONE
TZID:Europe/Berlin
X-LIC-LOCATION:Europe/Berlin
BEGIN:DAYLIGHT
TZOFFSETFROM:+0100
TZOFFSETTO:+0200
TZNAME:CEST
DTSTART:19700329T020000
RRULE:FREQ=YEARLY;INTERVAL=1;BYDAY=-1SU;BYMONTH=3
END:DAYLIGHT
BEGIN:STANDARD
TZOFFSETFROM:+0200
TZOFFSETTO:+0100
TZNAME:CET
DTSTART:19701025T030000
RRULE:FREQ=YEARLY;INTERVAL=1;BYDAY=-1SU;BYMONTH=10
END:STANDARD
END:VTIMEZONE
BEGIN:VEVENT
UID:9bbca3f9d5555e78bbcd5be13f13d481@gruene-eching.de
URL;VALUE=URI:https://gruene-eching.de/termine/energiewende-eching-wir-pa
 ckens-an/
LOCATION:
SUMMARY:ENERGIEWENDE ECHING  –  WIR PACKEN´S AN
DESCRIPTION;ALTREP="data:text/html,Liebe%20Mitglieder%2C%20liebe%20Freund
 innen%20und%20Freunde%2C%0A%0Adie%20n%C3%A4chsten%20Jahre%20sind%20f%C3%B
 Cr%20das%20Gelingen%20der%20Energiewende%20und%20das%20Klima%20entscheide
 nd.%20Wir%20m%C3%BCssen%20jetzt%20die%20Weichen%20stellen%2C%20um%20unser
 en%20Beitrag%20zum%201%2C5%20Grad%20Ziel%20beizutragen.%20Die%20Gemeinde%
 20Eching%20ist%20dabei%20im%20landkreisweiten%20Vergleich%20im%20Bereich%
 20der%20erneuerbaren%20Energien%20noch%20weit%20abgeschlagen%20auf%20eine
 n%20der%20hinteren%20Pl%C3%A4tze.%20Das%20wollen%20wir%20dieses%20Jahr%20
 aktiv%20angehen.%20Mit%20Initiativen%2C%20Antr%C3%A4gen%2C%20Vorschl%C3%A
 4gen%20und%20den%20richtigen%20Erg%C3%A4nzungen%20in%20der%20Ratsarbeit.%
 20Um%20die%20richtigen%20Ansatzpunkte%20zu%20finden%20haben%20wir%20drei%
 20Experten%20aus%20der%20Landesarbeitsgemeinschaft%20Energie%20der%20bayr
 ischen%20GR%C3%9CNEN%20eingeladen.%20Wir%20sehen%20uns%20zusammen%20die%2
 0Situation%20in%20Eching%20an%20und%20diskutieren%20die%20richtigen%20Ans
 atzpunkte%20um%20neuen%20Schwung%20in%20die%20Energiewende%20in%20Eching%
 20zu%20bringen.%0A%0ADie%20GR%C3%9CNE%20Gemeinderatsfraktion%20l%C3%A4dt%
 20euch%20gerne%20dazu%20ein.%20Zusammen%20kennen%20wir%20den%20ganzen%20O
 rt%20deutlich%20besser%2C%20wir%20brauchen%20eure%20Ideen%20und%20euer%20
 Feedback%2C%20um%20erfolgreich%20Antr%C3%A4ge%20in%20den%20Rat%20zu%20bek
 ommen.%0A%0ADatum%3A%2024.%20Februar%2019%3A30%20Uhr%0AOnline%20unter%3A%
 20%3Ca%20href%3D%22https%3A%2F%2Fwww.gotomeet.me%2Fleon-eckert%2Fenergiew
 ende-eching%22%3Ehttps%3A%2F%2Fwww.gotomeet.me%2Fleon-eckert%2Fenergiewen
 de-eching%3C%2Fa%3E%0A%0A%26nbsp%3B":Liebe Mitglieder\, liebe Freundinnen
  und Freunde\,\n\ndie nächsten Jahre sind für das Gelingen der Energiew
 ende und das Klima entscheidend. Wir müssen jetzt die Weichen stellen\, 
 um unseren Beitrag zum 1\,5 Grad Ziel beizutragen. Die Gemeinde Eching is
 t dabei im landkreisweiten Vergleich im Bereich der erneuerbaren Energien
  noch weit abgeschlagen auf einen der hinteren Plätze. Das wollen wir di
 eses Jahr aktiv angehen. Mit Initiativen\, Anträgen\, Vorschlägen und d
 en richtigen Ergänzungen in der Ratsarbeit. Um die richtigen Ansatzpunkt
 e zu finden haben wir drei Experten aus der Landesarbeitsgemeinschaft Ene
 rgie der bayrischen GRÜNEN eingeladen. Wir sehen uns zusammen die Situat
 ion in Eching an und diskutieren die richtigen Ansatzpunkte um neuen Schw
 ung in die Energiewende in Eching zu bringen.\n\nDie GRÜNE Gemeinderatsf
 raktion lädt euch gerne dazu ein. Zusammen kennen wir den ganzen Ort deu
 tlich besser\, wir brauchen eure Ideen und euer Feedback\, um erfolgreich
  Anträge in den Rat zu bekommen.\n\nDatum: 24. Februar 19:30 Uhr\n\nOnli
 ne unter: https://www.gotomeet.me/leon-eckert/energiewende-eching\n\n 
CLASS:PUBLIC
DTSTART;TZID=Europe/Berlin:20210224T193000
DTEND;TZID=Europe/Berlin:20210224T220000
DTSTAMP:20260421T100829
END:VEVENT
END:VCALENDAR